BEGIN:VCALENDAR
VERSION:2.0
PRODID:-//The Feathers Inn, Lichfield - ECPv6.8.3//NONSGML v1.0//EN
CALSCALE:GREGORIAN
METHOD:PUBLISH
X-ORIGINAL-URL:https://feathersinn.co.uk
X-WR-CALDESC:Events for The Feathers Inn, Lichfield
REFRESH-INTERVAL;VALUE=DURATION:PT1H
X-Robots-Tag:noindex
X-PUBLISHED-TTL:PT1H
BEGIN:VTIMEZONE
TZID:Europe/London
BEGIN:DAYLIGHT
TZOFFSETFROM:+0000
TZOFFSETTO:+0100
TZNAME:BST
DTSTART:20250330T010000
END:DAYLIGHT
BEGIN:STANDARD
TZOFFSETFROM:+0100
TZOFFSETTO:+0000
TZNAME:GMT
DTSTART:20251026T010000
END:STANDARD
END:VTIMEZONE
BEGIN:VEVENT
DTSTART;TZID=Europe/London:20251219T210000
DTEND;TZID=Europe/London:20251219T233000
DTSTAMP:20260419T144638
CREATED:20250114T123016Z
LAST-MODIFIED:20250114T123016Z
UID:11339-1766178000-1766187000@feathersinn.co.uk
SUMMARY:The Severn
DESCRIPTION:NEW BAND ALERT !!!!!   THE SEVERN are a covers band\, playing modern rock anthems
URL:https://feathersinn.co.uk/event/the-severn/
LOCATION:The Feathers Inn\, 118 Beacon Street\, Lichfield\, WS13 7BA\, United Kingdom
CATEGORIES:live music
ATTACH;FMTTYPE=image/jpeg:https://feathersinn.co.uk/wp-content/uploads/2025/01/the-severn.jpg
END:VEVENT
END:VCALENDAR