BEGIN:VCALENDAR
VERSION:2.0
PRODID:-//The Feathers Inn, Lichfield - ECPv6.8.3//NONSGML v1.0//EN
CALSCALE:GREGORIAN
METHOD:PUBLISH
X-ORIGINAL-URL:https://feathersinn.co.uk
X-WR-CALDESC:Events for The Feathers Inn, Lichfield
REFRESH-INTERVAL;VALUE=DURATION:PT1H
X-Robots-Tag:noindex
X-PUBLISHED-TTL:PT1H
BEGIN:VTIMEZONE
TZID:Europe/London
BEGIN:DAYLIGHT
TZOFFSETFROM:+0000
TZOFFSETTO:+0100
TZNAME:BST
DTSTART:20250330T010000
END:DAYLIGHT
BEGIN:STANDARD
TZOFFSETFROM:+0100
TZOFFSETTO:+0000
TZNAME:GMT
DTSTART:20251026T010000
END:STANDARD
BEGIN:DAYLIGHT
TZOFFSETFROM:+0000
TZOFFSETTO:+0100
TZNAME:BST
DTSTART:20260329T010000
END:DAYLIGHT
BEGIN:STANDARD
TZOFFSETFROM:+0100
TZOFFSETTO:+0000
TZNAME:GMT
DTSTART:20261025T010000
END:STANDARD
END:VTIMEZONE
BEGIN:VEVENT
DTSTART;TZID=Europe/London:20251231T193000
DTEND;TZID=Europe/London:20260101T010000
DTSTAMP:20260419T143913
CREATED:20251027T141300Z
LAST-MODIFIED:20251027T141300Z
UID:11859-1767209400-1767229200@feathersinn.co.uk
SUMMARY:Skull Duggery
DESCRIPTION:Come and bring n the new year with us and this wonderful and  with A night of wonderful music\, from every era provided by some very familiar faces…… \n  \nTickets available at the bar
URL:https://feathersinn.co.uk/event/skull-duggery-2/
LOCATION:The Feathers Inn\, 118 Beacon Street\, Lichfield\, WS13 7BA\, United Kingdom
END:VEVENT
END:VCALENDAR