BEGIN:VCALENDAR
VERSION:2.0
PRODID:-//The Feathers Inn, Lichfield - ECPv6.8.3//NONSGML v1.0//EN
CALSCALE:GREGORIAN
METHOD:PUBLISH
X-WR-CALNAME:The Feathers Inn, Lichfield
X-ORIGINAL-URL:https://feathersinn.co.uk
X-WR-CALDESC:Events for The Feathers Inn, Lichfield
REFRESH-INTERVAL;VALUE=DURATION:PT1H
X-Robots-Tag:noindex
X-PUBLISHED-TTL:PT1H
BEGIN:VTIMEZONE
TZID:Europe/London
BEGIN:DAYLIGHT
TZOFFSETFROM:+0000
TZOFFSETTO:+0100
TZNAME:BST
DTSTART:20250330T010000
END:DAYLIGHT
BEGIN:STANDARD
TZOFFSETFROM:+0100
TZOFFSETTO:+0000
TZNAME:GMT
DTSTART:20251026T010000
END:STANDARD
END:VTIMEZONE
BEGIN:VEVENT
DTSTART;TZID=Europe/London:20250325T200000
DTEND;TZID=Europe/London:20250325T233000
DTSTAMP:20260420T065652
CREATED:20240919T101410Z
LAST-MODIFIED:20240919T101410Z
UID:10893-1742932800-1742945400@feathersinn.co.uk
SUMMARY:Tuesday Night at the Feathers
DESCRIPTION:Our weekly open mic jam night is open to all acoustic and electric bands\, duo’s\, solo artists\, and all other wonderful musicians out there. \nWe have a weekly Showcase band\, please get in touch if you want to book your slot. \nFab house band that will learn songs for you\, just get in touch with us and let us know what the songs are.
URL:https://feathersinn.co.uk/event/tuesday-night-at-the-feathers-164/
LOCATION:The Feathers Inn\, 118 Beacon Street\, Lichfield\, WS13 7BA\, United Kingdom
CATEGORIES:live music
ATTACH;FMTTYPE=image/jpeg:https://feathersinn.co.uk/wp-content/uploads/2024/09/open-mic-3.jpg
END:VEVENT
BEGIN:VEVENT
DTSTART;TZID=Europe/London:20250322T210000
DTEND;TZID=Europe/London:20250322T233000
DTSTAMP:20260420T065652
CREATED:20240831T132734Z
LAST-MODIFIED:20240831T132734Z
UID:10652-1742677200-1742686200@feathersinn.co.uk
SUMMARY:Hammered
DESCRIPTION:As the name suggests\, these guys ain’t no limp wristed blues band\, but two hours of kick ass party rock covers. So if you want a great night guaranteed Get Hammered and party hard.
URL:https://feathersinn.co.uk/event/hammered-8/
LOCATION:The Feathers Inn\, 118 Beacon Street\, Lichfield\, WS13 7BA\, United Kingdom
END:VEVENT
BEGIN:VEVENT
DTSTART;TZID=Europe/London:20250321T210000
DTEND;TZID=Europe/London:20250321T233000
DTSTAMP:20260420T065652
CREATED:20250130T114144Z
LAST-MODIFIED:20250130T114144Z
UID:11352-1742590800-1742599800@feathersinn.co.uk
SUMMARY:Target
DESCRIPTION:!! NEW BAND ALERT!! come and enjoy a night of live music from the 60’s
URL:https://feathersinn.co.uk/event/target/
LOCATION:The Feathers Inn\, 118 Beacon Street\, Lichfield\, WS13 7BA\, United Kingdom
CATEGORIES:live music
ATTACH;FMTTYPE=image/jpeg:https://feathersinn.co.uk/wp-content/uploads/2025/01/target-poster.jpg
END:VEVENT
END:VCALENDAR