BEGIN:VCALENDAR
VERSION:2.0
PRODID:-//The Feathers Inn, Lichfield - ECPv6.8.3//NONSGML v1.0//EN
CALSCALE:GREGORIAN
METHOD:PUBLISH
X-WR-CALNAME:The Feathers Inn, Lichfield
X-ORIGINAL-URL:https://feathersinn.co.uk
X-WR-CALDESC:Events for The Feathers Inn, Lichfield
REFRESH-INTERVAL;VALUE=DURATION:PT1H
X-Robots-Tag:noindex
X-PUBLISHED-TTL:PT1H
BEGIN:VTIMEZONE
TZID:Europe/London
BEGIN:DAYLIGHT
TZOFFSETFROM:+0000
TZOFFSETTO:+0100
TZNAME:BST
DTSTART:20260329T010000
END:DAYLIGHT
BEGIN:STANDARD
TZOFFSETFROM:+0100
TZOFFSETTO:+0000
TZNAME:GMT
DTSTART:20261025T010000
END:STANDARD
END:VTIMEZONE
BEGIN:VEVENT
DTSTART;TZID=Europe/London:20260419T180000
DTEND;TZID=Europe/London:20260419T200000
DTSTAMP:20260419T144308
CREATED:20250926T123134Z
LAST-MODIFIED:20260301T100857Z
UID:11673-1776621600-1776628800@feathersinn.co.uk
SUMMARY:Evening with Rich Parsons
DESCRIPTION:Enjoy an evening with Rich the Human Jukebox\, doing a selection of tunes throughout the decades and across the genres
URL:https://feathersinn.co.uk/event/evening-with-rich-parsons-59/
LOCATION:The Feathers Inn\, 118 Beacon Street\, Lichfield\, WS13 7BA\, United Kingdom
CATEGORIES:live music
ATTACH;FMTTYPE=image/jpeg:https://feathersinn.co.uk/wp-content/uploads/2024/09/rich-pic.jpg
END:VEVENT
BEGIN:VEVENT
DTSTART;TZID=Europe/London:20260421T200000
DTEND;TZID=Europe/London:20260421T233000
DTSTAMP:20260419T144308
CREATED:20250926T123056Z
LAST-MODIFIED:20250926T123056Z
UID:11675-1776801600-1776814200@feathersinn.co.uk
SUMMARY:Tuesday Night at the Feathers
DESCRIPTION:Our weekly open mic jam night is open to all acoustic and electric bands\, duo’s\, solo artists\, and all other wonderful musicians out there. \nWe have a weekly Showcase band\, please get in touch if you want to book your slot. \nFab house band that will learn songs for you\, just get in touch with us and let us know what the songs are.
URL:https://feathersinn.co.uk/event/tuesday-night-at-the-feathers-37/
LOCATION:The Feathers Inn\, 118 Beacon Street\, Lichfield\, WS13 7BA\, United Kingdom
CATEGORIES:live music
ATTACH;FMTTYPE=image/jpeg:https://feathersinn.co.uk/wp-content/uploads/2025/07/1C922A85-395B-450F-98E8-61B1DD0D66DC.jpeg
END:VEVENT
BEGIN:VEVENT
DTSTART;TZID=Europe/London:20260424T210000
DTEND;TZID=Europe/London:20260424T233000
DTSTAMP:20260419T144308
CREATED:20260409T095059Z
LAST-MODIFIED:20260409T095059Z
UID:12152-1777064400-1777073400@feathersinn.co.uk
SUMMARY:The Beards
DESCRIPTION:NEW BAND ALERT \nCome and enjoy this fun party band\, playing a little of everything for you to dance the night away to
URL:https://feathersinn.co.uk/event/the-beards/
LOCATION:The Feathers Inn\, 118 Beacon Street\, Lichfield\, WS13 7BA\, United Kingdom
CATEGORIES:live music
ATTACH;FMTTYPE=image/png:https://feathersinn.co.uk/wp-content/uploads/2026/04/the-beards.png
END:VEVENT
BEGIN:VEVENT
DTSTART;TZID=Europe/London:20260425T210000
DTEND;TZID=Europe/London:20260425T230000
DTSTAMP:20260419T144308
CREATED:20260105T115248Z
LAST-MODIFIED:20260105T115248Z
UID:12016-1777150800-1777158000@feathersinn.co.uk
SUMMARY:Frontrow
DESCRIPTION:Superb covers band\, playing great tunes from the last 6 decades. A covers band not to be missed.
URL:https://feathersinn.co.uk/event/frontrow-4/
LOCATION:The Feathers Inn\, 118 Beacon Street\, Lichfield\, WS13 7BA\, United Kingdom
ATTACH;FMTTYPE=image/jpeg:https://feathersinn.co.uk/wp-content/uploads/2023/10/53F9FEED-932E-40B0-A9CA-D92AB08DB21A.jpeg
END:VEVENT
BEGIN:VEVENT
DTSTART;TZID=Europe/London:20260426T190000
DTEND;TZID=Europe/London:20260426T223000
DTSTAMP:20260419T144308
CREATED:20250926T122940Z
LAST-MODIFIED:20260301T100920Z
UID:11665-1777230000-1777242600@feathersinn.co.uk
SUMMARY:Stylus Social
DESCRIPTION:Come and watch some locals be a DJ for the night and play their favourite records. \nIf you like what you see\, then sign up for the next one. \n  \nTo book your slot see Tim at Stylus Records Minster Pool Walk\, Lichfield WS13 6QT
URL:https://feathersinn.co.uk/event/stylus-social-10/
LOCATION:The Feathers Inn\, 118 Beacon Street\, Lichfield\, WS13 7BA\, United Kingdom
CATEGORIES:live music
END:VEVENT
BEGIN:VEVENT
DTSTART;TZID=Europe/London:20260428T200000
DTEND;TZID=Europe/London:20260428T233000
DTSTAMP:20260419T144308
CREATED:20250926T123210Z
LAST-MODIFIED:20250926T123210Z
UID:11679-1777406400-1777419000@feathersinn.co.uk
SUMMARY:Tuesday Night at the Feathers
DESCRIPTION:Our weekly open mic jam night is open to all acoustic and electric bands\, duo’s\, solo artists\, and all other wonderful musicians out there. \nWe have a weekly Showcase band\, please get in touch if you want to book your slot. \nFab house band that will learn songs for you\, just get in touch with us and let us know what the songs are.
URL:https://feathersinn.co.uk/event/tuesday-night-at-the-feathers-38/
LOCATION:The Feathers Inn\, 118 Beacon Street\, Lichfield\, WS13 7BA\, United Kingdom
CATEGORIES:live music
ATTACH;FMTTYPE=image/jpeg:https://feathersinn.co.uk/wp-content/uploads/2025/07/1C922A85-395B-450F-98E8-61B1DD0D66DC.jpeg
END:VEVENT
END:VCALENDAR